BEGIN:VCALENDAR
PRODID:-//hacksw/handcal//NONSGML v1.0//EN
VERSION:2.0
METHOD:PUBLISH
BEGIN:VEVENT
DTSTART:20260226T154500Z
DTEND:20260226T170000Z
LOCATION:HARIK THOMPSON, CPAs
UID:2922020260226T154500ZFinCEN Real Estate Reporting Changes — What You Need to Know Before March 1 - Focus Group
DTSTAMP:20260420T061503Z
DESCRIPTION:\n \n \n \nNew reporting and filing requirements from the Financial Crimes Enforcement Network (FinCEN) are set to take effect March 1 and will impact certain real estate transactions involving buyers and sellers. These updates introduce expanded information collection and reporting obligations designed to increase transparency and strengthen anti-money-laundering compliance within the real estate industry.\n \nWe will review and discuss these changes going into effect March 1st and how they may impact your clients.\n \n \n \n \nHarik Thompson CPAs\n 25500 Hawthorne Blvd #2120\n Torrance, CA 90505\n \n \n
SUMMARY:FinCEN Real Estate Reporting Changes — What You Need to Know Before March 1 - Focus Group - South Bay Estate Planning Council 
PRIORITY:3
BEGIN:VALARM
TRIGGER:PT18H
ACTION:DISPLAY
DESCRIPTION:Reminder
END:VALARM
END:VEVENT
END:VCALENDAR