BEGIN:VCALENDAR
PRODID:-//hacksw/handcal//NONSGML v1.0//EN
VERSION:2.0
METHOD:PUBLISH
BEGIN:VEVENT
DTSTART:20260122T154500Z
DTEND:20260122T170000Z
LOCATION:HARIK THOMPSON, CPAs
UID:2905220260122T154500ZAdvance Health Care Directives: It Can't be Just a Document - Focus Group
DTSTAMP:20260420T061344Z
DESCRIPTION:\n \nRSVPs for this event are closed.  Please call Angela at 310-529-4973 to see if there are any cancellations.\n \nFor many estate planning attorneys, an Advance Health Care Directive (AHCD) is just an add-on trust estate document.  For others, the AHCD has very detailed language, language that sounds good, but which can be disastrous at the time of need.  Choosing not to prolong life may very well mean something different if the issue is advanced dementia as compared to a heart attack or cancer.  Advanced Care Planning, where the AHCD is but one tool, should be considered.  We will discuss meaningful ways to approach the various issues that may arise from Advance Care Planning and, hopefully, share real world examples of what has worked and what does not work.  \n \n \n \n \nHarik Thompson CPAs\n 25500 Hawthorne Blvd #2120\n Torrance, CA 90505\n \n \n
SUMMARY:Advance Health Care Directives: It Can't be Just a Document - Focus Group - South Bay Estate Planning Council 
PRIORITY:3
BEGIN:VALARM
TRIGGER:PT18H
ACTION:DISPLAY
DESCRIPTION:Reminder
END:VALARM
END:VEVENT
END:VCALENDAR