BEGIN:VCALENDAR
PRODID:-//hacksw/handcal//NONSGML v1.0//EN
VERSION:2.0
METHOD:PUBLISH
BEGIN:VEVENT
DTSTART:20260514T140000Z
DTEND:20260514T160000Z
LOCATION:Depot Restaurant and Via Zoom
UID:2883820260514T140000ZConservatorship and New Capacity Declaration
DTSTAMP:20260420T023757Z
DESCRIPTION:\nDetails to follow!\n
SUMMARY:Conservatorship and New Capacity Declaration - South Bay Estate Planning Council 
PRIORITY:3
BEGIN:VALARM
TRIGGER:PT18H
ACTION:DISPLAY
DESCRIPTION:Reminder
END:VALARM
END:VEVENT
END:VCALENDAR