BEGIN:VCALENDAR
PRODID:-//hacksw/handcal//NONSGML v1.0//EN
VERSION:2.0
METHOD:PUBLISH
BEGIN:VEVENT
DTSTART:20260212T150000Z
DTEND:20260212T170000Z
LOCATION:Depot Restaurant and Via Zoom
UID:2883620260212T150000ZStay Ahead of the Curve: California Property Tax Developments and Practice Pointers for the Everyday Practitioner
DTSTAMP:20260420T061308Z
DESCRIPTION:\nRSVPs for this event are closed.  \n \nThis presentation will be about California’s property tax system that can be daunting and full of potential hazards.  In this session, we’ll explore the fundamentals of California property tax assessments and change in ownership law.  The listener will learn about unique exclusions and potential savings opportunities as well as important deadlines and developments in the property tax and documentary transfer tax practice areas.\n \n \n \nAbout Our Speaker\n \nMichael is a state and local tax attorney with Ajalat, Polley, Ayoob, Matarese & Broege.  He received his undergraduate degree from UCLA and earned his Juris Doctor from Loyola Law School in 2016.  Michael is a frequent speaker on state and local tax issues and co-authored multiple publications.  As a state and local tax lawyer, he has helped countless clients, from individual families to Fortune 500 companies, navigate complex property tax issues and achieve significant tax savings and refunds.  Michael is a former civil litigator and handles cases at all levels of the administrative and judicial process.\n
SUMMARY:Stay Ahead of the Curve: California Property Tax Developments and Practice Pointers for the Everyday Practitioner - South Bay Estate Planning Council 
PRIORITY:3
BEGIN:VALARM
TRIGGER:PT18H
ACTION:DISPLAY
DESCRIPTION:Reminder
END:VALARM
END:VEVENT
END:VCALENDAR