BEGIN:VCALENDAR
PRODID:-//hacksw/handcal//NONSGML v1.0//EN
VERSION:2.0
METHOD:PUBLISH
BEGIN:VEVENT
DTSTART:20251023T144500Z
DTEND:20251023T160000Z
LOCATION:HARIK THOMPSON, CPAs
UID:2869220251023T144500ZThe Insanity of the Fiduciary World - Focus Group
DTSTAMP:20260420T061449Z
DESCRIPTION:\n \nThe Fiduciary World - Fraught with personal liability, crazy beneficiaries, and when court supervised, getting paid what the judge wants, when the judge wants.  When a judge states that he’s inclined to agree with the disgruntled beneficiary and remove the co-trustees while admitting that he hadn’t read a single document before reaching his conclusion, you can’t help but wonder “Why did I become a fiduciary?!?!?”\n \nCheryl Carter and Suzanne Grudnitski have learned to deal with the insanity of the fiduciary world by “helping beneficiaries despite themselves,” and by recognizing the direct impact their work has on people’s lives. It’s a tough and often thankless job, but one they continue to find great satisfaction in as they touch and help the lives of those they serve. \n \nIf you want to hear about the challenging issues they face, please join them for the Focus Group on Thursday, October 23rd.\n \n \n \n \nHarik Thompson CPAs\n 25500 Hawthorne Blvd #2120\n Torrance, CA 90505\n \n \n
SUMMARY:The Insanity of the Fiduciary World - Focus Group - South Bay Estate Planning Council 
PRIORITY:3
BEGIN:VALARM
TRIGGER:PT18H
ACTION:DISPLAY
DESCRIPTION:Reminder
END:VALARM
END:VEVENT
END:VCALENDAR