BEGIN:VCALENDAR
PRODID:-//hacksw/handcal//NONSGML v1.0//EN
VERSION:2.0
METHOD:PUBLISH
BEGIN:VEVENT
DTSTART:20250925T144500Z
DTEND:20250925T160000Z
LOCATION:HARIK THOMPSON, CPAs
UID:2853720250925T144500ZAI at Work: Practical Applications Across Vocations - Focus Group
DTSTAMP:20260420T061206Z
DESCRIPTION:\n  \nRSVPs for this event are closed.  Please call Angela at 310-529-4973 to see if there are any cancellations.\n \n \n \n \n \nThis Focus Group will highlight how AI is being applied in practical ways to support innovation and efficiency across different vocations.\n \n \n \nHarik Thompson CPAs\n 25500 Hawthorne Blvd #2120\n Torrance, CA 90505\n \n \n
SUMMARY:AI at Work: Practical Applications Across Vocations - Focus Group - South Bay Estate Planning Council 
PRIORITY:3
BEGIN:VALARM
TRIGGER:PT18H
ACTION:DISPLAY
DESCRIPTION:Reminder
END:VALARM
END:VEVENT
END:VCALENDAR