BEGIN:VCALENDAR
PRODID:-//hacksw/handcal//NONSGML v1.0//EN
VERSION:2.0
METHOD:PUBLISH
BEGIN:VEVENT
DTSTART:20240614T003000Z
DTEND:20240614T023000Z
LOCATION:Tin Roof Bistro, 3500 N Sepulveda Blvd, Manhattan Beach
UID:2780220240614T003000ZAnnual June Evening Social
DTSTAMP:20260420T061221Z
DESCRIPTION:\nMembers and Friends\n \nWe are delighted to invite you to our upcoming Annual Evening Social and the Annual Board Installation at the lovely Tin Roof Bistro in Manhattan Beach. We will be in the private Wine Cellar room off the outdoor patio.  This event promises to be an enjoyable evening filled with networking opportunities, celebration, and the formal installation of our esteemed board members for the year ahead.\n \nWe would be honored to have you join us as we celebrate the accomplishments of our organization and recognize the dedication and expertise of our board members. This event presents a wonderful opportunity to connect with industry professionals, exchange ideas, and foster new relationships within our business community.\n \nThroughout the evening, you can expect a warm and welcoming atmosphere, accompanied by delicious refreshments and appetizers. You will receive 2 drink tickets that will get your 2 wine or beer - or one cocktail.  Cash bar after that.\n \nIt will be an occasion to relax, unwind, and forge connections with fellow business leaders and professionals in a casual setting.\n \nThe highlight of the event will be the formal installation of our board members, where we will acknowledge their commitment and introduce them to the community. We believe their expertise, passion, and diverse backgrounds will drive our organization's success in the coming year.\n \nLooking forward to seeing you for this final event of our fiscal year!\n
SUMMARY:Annual June Evening Social - South Bay Estate Planning Council 
PRIORITY:3
BEGIN:VALARM
TRIGGER:PT18H
ACTION:DISPLAY
DESCRIPTION:Reminder
END:VALARM
END:VEVENT
END:VCALENDAR