BEGIN:VCALENDAR
PRODID:-//hacksw/handcal//NONSGML v1.0//EN
VERSION:2.0
METHOD:PUBLISH
BEGIN:VEVENT
DTSTART:20250522T144500Z
DTEND:20250522T160000Z
LOCATION:HARIK THOMPSON, CPAs
UID:2773720250522T144500ZCapital Gains Tax Planning for Older Americans - Focus Group
DTSTAMP:20260420T061718Z
DESCRIPTION:\nRSVPs for this event are closed.  Please call Angela at 310-529-4973 to see if there are any cancellations.\n \n \n \nWe will be digging deeper into the material covered at the May 8th General Meeting.\n \nHarik Thompson CPAs\n 25500 Hawthorne Blvd #2120\n Torrance, CA 90505\n \n \n
SUMMARY:Capital Gains Tax Planning for Older Americans - Focus Group - South Bay Estate Planning Council 
PRIORITY:3
BEGIN:VALARM
TRIGGER:PT18H
ACTION:DISPLAY
DESCRIPTION:Reminder
END:VALARM
END:VEVENT
END:VCALENDAR