BEGIN:VCALENDAR
PRODID:-//hacksw/handcal//NONSGML v1.0//EN
VERSION:2.0
METHOD:PUBLISH
BEGIN:VEVENT
DTSTART:20250227T154500Z
DTEND:20250227T170000Z
LOCATION:HARIK THOMPSON, CPAs
UID:2739420250227T154500ZFocus Group - Case Studies of the SECURE Act and SECURE Act 2.0
DTSTAMP:20260420T062019Z
DESCRIPTION:\nRSVPs for this event are closed.  Please email Ange at angela@realinterest.net to see if there are any cancellations.\n \nSBEPC Members\n \nLet’s pick up where we left off at the general meeting SECURE Act and SECURE Act 2.0 and apply to some case studies from real life.\n \n \n \nHarik Thompson CPAs\n25500 Hawthorne Blvd #2120\nTorrance, CA 90505\n
SUMMARY:Focus Group - Case Studies of the SECURE Act and SECURE Act 2.0 - South Bay Estate Planning Council 
PRIORITY:3
BEGIN:VALARM
TRIGGER:PT18H
ACTION:DISPLAY
DESCRIPTION:Reminder
END:VALARM
END:VEVENT
END:VCALENDAR