BEGIN:VCALENDAR
PRODID:-//hacksw/handcal//NONSGML v1.0//EN
VERSION:2.0
METHOD:PUBLISH
BEGIN:VEVENT
DTSTART:20250123T154500Z
DTEND:20250123T170000Z
LOCATION:HARIK THOMPSON, CPAs
UID:2724720250123T154500ZFocus Group - Transition Outlook: What to Expect Under a Second Trump Administration Re: Future Tax Policy
DTSTAMP:20260420T061555Z
DESCRIPTION:\nRSVPs for this event are closed.  Please email Ange at angela@realinterest.net to see if there are any cancellations.\n \nSBEPC Members\n \nJoin us for a timely discussion on evolving tax policy in 2025, as we approach the expiration of many key provisions of the 2017 Tax Cuts and Jobs Act (TCJA). Tax policy will be a central focus in the 119th Congress, and this focus group will explore anticipated tax priorities and potential legislative and regulatory developments, as well as how the reconciliation process may be leveraged.\n \nHarik Thompson CPAs\n 25500 Hawthorne Blvd #2120\n Torrance, CA 90505\n \n \n
SUMMARY:Focus Group - Transition Outlook: What to Expect Under a Second Trump Administration Re: Future Tax Policy - South Bay Estate Planning Council 
PRIORITY:3
BEGIN:VALARM
TRIGGER:PT18H
ACTION:DISPLAY
DESCRIPTION:Reminder
END:VALARM
END:VEVENT
END:VCALENDAR