BEGIN:VCALENDAR
PRODID:-//hacksw/handcal//NONSGML v1.0//EN
VERSION:2.0
METHOD:PUBLISH
BEGIN:VEVENT
DTSTART:20241024T144500Z
DTEND:20241024T160000Z
LOCATION:HARIK THOMPSON, CPAs
UID:2692920241024T144500ZFocus Group - Beneficial Ownership Interest Reports – Requirements and Recommendations
DTSTAMP:20260420T061339Z
DESCRIPTION:\nRSVPs for this event are closed.  Please email Ange at angela@realinterest.net to see if there are any cancellations.\n \nSBEPC Members\n \nMary Hanson will be providing insight on Beneficial Ownership Interest reports.\n \nMore information to follow\n \n \n \n \n
SUMMARY:Focus Group - Beneficial Ownership Interest Reports – Requirements and Recommendations - South Bay Estate Planning Council 
PRIORITY:3
BEGIN:VALARM
TRIGGER:PT18H
ACTION:DISPLAY
DESCRIPTION:Reminder
END:VALARM
END:VEVENT
END:VCALENDAR