BEGIN:VCALENDAR
PRODID:-//hacksw/handcal//NONSGML v1.0//EN
VERSION:2.0
METHOD:PUBLISH
BEGIN:VEVENT
DTSTART:20240926T144500Z
DTEND:20240926T160000Z
LOCATION:HARIK THOMPSON, CPAs
UID:2676520240926T144500ZFocus Group - Digging Deeper into QPRTs 
DTSTAMP:20260420T061221Z
DESCRIPTION:\nSBEPC Members\n \nGaree Gasperian will be leading the discussion on QPRTs where we will dig deeper and get into the weeds!\n \nMore information to follow\n \n \n \n \n
SUMMARY:Focus Group - Digging Deeper into QPRTs  - South Bay Estate Planning Council 
PRIORITY:3
BEGIN:VALARM
TRIGGER:PT18H
ACTION:DISPLAY
DESCRIPTION:Reminder
END:VALARM
END:VEVENT
END:VCALENDAR