BEGIN:VCALENDAR
PRODID:-//hacksw/handcal//NONSGML v1.0//EN
VERSION:2.0
METHOD:PUBLISH
BEGIN:VEVENT
DTSTART:20250508T140000Z
DTEND:20250508T160000Z
LOCATION:Depot Restaurant and Via Zoom
UID:2662020250508T140000ZCapital Gains Tax Planning for Older Americans
DTSTAMP:20260420T061857Z
DESCRIPTION:\nRSVPs for this event are closed.  Please call Angela at 310-529-4973 to see if there are any cancellations.\n \nAt death there is a step-up (increase) in basis that invites people to hold on to assets rather than sell them. However, not everyone wants to hold on to appreciated assets for the benefit of their heirs’ income tax savings.  There are, for most assets, at least a half dozen ways to reduce, defer or eliminate capital gains taxes. These benefit the parent (older American) but do not necessarily harm their heirs.  Timing is the most important element in this planning.  So if you understand enough about these now, you will listen for the magic words: `You know, I’m thinking of selling my business/building in two to three years.\n \n \n \nAbout our Speaker\n \nNeda Barkhordar is a graduate of UCLA where she completed her degree in 3 years summa cum laude. She received her law degree from UCLA where she completed the Business Law and Policy Specialization in Taxation and earned her LLM in tax from NYU.\n \nAt KFB Rice, LLP Neda has advised clients on both regular estate planning, such as pourover Wills and family trusts, and complex estate tax planning involving private annuities, QPRTs, SCINs and GRATs. She has been the primary advisor to clients and their other advisors about the Offshore Voluntary Disclosure Program. Neda frequently works on inbound planning, multi-national planning, and other problems, including innocent spouse, offer-in-compromise and installment agreements. Neda has filed Tax Court petitions and is actively engaged in negotiations with the Internal Revenue Service and the California Franchise Tax Board on behalf of taxpayers with collection and other problems. She has also worked on two large tax-free spin-offs under Internal Revenue Code Section 355. \n \n \n \nLook Who is Coming!\n Bob. Abelson   Mollie Kaiser Bob Abelson, CPA   Isaac Kim kathleen adams   Mickey Knickerbocker Nadia Antii   Andrew Meinzer Stephanie Bezner   Mike Millea Allen Bond   Mat Moore Cheryl Carter   Shawn Nejad Kate Crane   Michael Ozawa Kristen Damon   Masumi Patel Erica Gomez   Peter Pettler Ali Haidar   Donna Phelan Mary Hanson   ANGELA SHELDON Eric Harris   Larry Takahashi Todd Hollingshead   Laura Thatcher JOHN HOOKS   Rachel Thurman Natallia Ioannou   MATTHEW TRASS alexis jensen   Carl Walsh \n \n
SUMMARY:Capital Gains Tax Planning for Older Americans - South Bay Estate Planning Council 
PRIORITY:3
BEGIN:VALARM
TRIGGER:PT18H
ACTION:DISPLAY
DESCRIPTION:Reminder
END:VALARM
END:VEVENT
END:VCALENDAR