BEGIN:VCALENDAR
PRODID:-//hacksw/handcal//NONSGML v1.0//EN
VERSION:2.0
METHOD:PUBLISH
BEGIN:VEVENT
DTSTART:20240523T144500Z
DTEND:20240523T160000Z
LOCATION:HARIK THOMPSON, CPAs
UID:2594620240523T144500Z“Experiences of ‘This Went Wrong” where Hindsight becomes Foresight”
DTSTAMP:20260420T061222Z
DESCRIPTION:\nThe registeration for this event is closed.  Please call Marlowe at 310-375-6300 to see if there is space.\n \nGaree Gasperian will continue the discussion from our May General meeting on  Estate Planning disasters.  Bring your horror stories! \nAn estate plan may not go "sideways" until way down the road - during estate administration or (egads) estate litigation.  The focus group will be a discussion of how in hindsight a problem may have been avoided so that one person's hindsight can be another person's foresight to avoid the problem.  \n \n \n \n\nLook Who Is Coming! \n \nBob. Abelson \nPhillip Cook \nKristen Damon \nLinda Dorfmont \nSamuel Ford \nGaree Gasperian \nMichael Goergen \nDave Guelff \nPatricia Harik \nEric Harris \nVicki Intriago \nAngela Klenk \nMichael Ozawa \nRhonica Petty \nMark Tsujimoto
SUMMARY:“Experiences of ‘This Went Wrong” where Hindsight becomes Foresight” - South Bay Estate Planning Council 
PRIORITY:3
BEGIN:VALARM
TRIGGER:PT18H
ACTION:DISPLAY
DESCRIPTION:Reminder
END:VALARM
END:VEVENT
END:VCALENDAR