BEGIN:VCALENDAR
PRODID:-//hacksw/handcal//NONSGML v1.0//EN
VERSION:2.0
METHOD:PUBLISH
BEGIN:VEVENT
DTSTART:20250613T003000Z
DTEND:20250613T023000Z
LOCATION:Riviera Mexican Cantina, 207 N Harbor Dr, Redondo Beach, CA 90277
UID:2585420250613T003000ZAnnual June Evening Social 
DTSTAMP:20260420T061640Z
DESCRIPTION:\n \n \nYou're Invited to the Annual Evening Social & Board Installation!\n \nMembers and Friends,\n \nWe are delighted to invite you to our Annual Evening Social and Board Installation at the charming Riviera Mexican Cantina in Redondo Beach. Join us in the private Cantina Room, with its own entrance located to the right side of the restaurant, for an evening of celebration, connection, and community.\n \nThis festive evening will include:\n Networking opportunities with fellow professionals Delicious appetizers and refreshments Two complimentary drink tickets (Cash bar available thereafter) A warm and welcoming atmosphere perfect for relaxing and connecting \nThe highlight of the evening will be the formal installation of our Board of Directors. We’ll celebrate their accomplishments, recognize their dedication, and welcome them into their leadership roles for the year ahead.\n \nDon’t miss this opportunity to engage with our vibrant business community and help us close out our fiscal year on a high note!\n \nWe look forward to seeing you there!\n \nLook Who is Coming!\n Bob. Abelson   alexis jensen Carmen Alberio   Peter Jensen Ernesto Aldover   Mollie Kaiser Blanca Alfaro   Anthony Kanner Nadia Antii   Isaac Kim Allen Bond   Mickey Knickerbocker Milana Budisavljevic   Ellen Lee Gustavo Cardenas   Kelly Moore Kelly Charlshe   Mat Moore Drew Davis   Samuel Murphy Angela Dorsey   Larry Nakahara Thomas Dorsey   Shawn Nejad Samuel Ford   James O'Grady Garee Gasperian   Peter Pettler Erica Gomez   Rhonica Petty Suzanne Grudnitski   Jay Riley Mary Hanson   Cynthia (Cindy) Rustanius PATRICIA HARIK   Greg Schill Eric Harris   Larry Takahashi Daniel Hart   Tiana Takenaga Todd Hollingshead   Rachel Thurman JOHN HOOKS   Mark Tsujimoto Blanca Vickie Intriago   Masaya Uchino Natallia Ioannou   tammy wong
SUMMARY:Annual June Evening Social  - South Bay Estate Planning Council 
PRIORITY:3
BEGIN:VALARM
TRIGGER:PT18H
ACTION:DISPLAY
DESCRIPTION:Reminder
END:VALARM
END:VEVENT
END:VCALENDAR