BEGIN:VCALENDAR
PRODID:-//hacksw/handcal//NONSGML v1.0//EN
VERSION:2.0
METHOD:PUBLISH
BEGIN:VEVENT
DTSTART:20240328T144500Z
DTEND:20240328T160000Z
LOCATION:HARIK THOMPSON, CPAs
UID:2581520240328T144500ZBeat Prop. 13: Using An Entity To Transfer Real Estate To Heirs - Deeper Dive
DTSTAMP:20260420T061339Z
DESCRIPTION:\nWe will be digging deeper into the material covered at the March 14th General Meeting.\n \nHarik Thompson CPAs\n 25500 Hawthorne Blvd #2120\n Torrance, CA 90505\n \n \n \nLook Who is Coming!\n\n Bob. Abelson\n Allen Bond\n \nKristen Damon \nLinda Dorfmont \nSamuel Ford \nGaree Gasperian \nMichael Goergen \nPatricia Harik \nEric Harris \nMickey Knickerbocker \nShawn Nejad \nRhonica Petty \nGrace St. Clair \nLarry Takahashi \nLaura Thatcher \nMark Tsujimoto \nSandy VandenBerge\n \n  \n \n 
SUMMARY:Beat Prop. 13: Using An Entity To Transfer Real Estate To Heirs - Deeper Dive - South Bay Estate Planning Council 
PRIORITY:3
BEGIN:VALARM
TRIGGER:PT18H
ACTION:DISPLAY
DESCRIPTION:Reminder
END:VALARM
END:VEVENT
END:VCALENDAR