BEGIN:VCALENDAR
PRODID:-//hacksw/handcal//NONSGML v1.0//EN
VERSION:2.0
METHOD:PUBLISH
BEGIN:VEVENT
DTSTART:20240222T154500Z
DTEND:20240222T170000Z
LOCATION:HARIK THOMPSON, CPAs
UID:2568120240222T154500ZThe Magic of Avoiding Financial Fraud
DTSTAMP:20260420T062019Z
DESCRIPTION:\nRSVPs are closed for tomorrow's event.  You can call Marlowe at 310-375-6300 to see if she can squeez you in.\n \nWe will be digging deeper into internal controls amd how to protect yourself discussing issues brought up in our last meeting.  This meeting will be moderated by Shylesh Viswanathan, CPA\n \n\n Harik Thompson CPAs\n 25500 Hawthorne Blvd #2120\n Torrance, CA 90505\n \n \n \n  \n \n 
SUMMARY:The Magic of Avoiding Financial Fraud - South Bay Estate Planning Council 
PRIORITY:3
BEGIN:VALARM
TRIGGER:PT18H
ACTION:DISPLAY
DESCRIPTION:Reminder
END:VALARM
END:VEVENT
END:VCALENDAR