BEGIN:VCALENDAR
PRODID:-//hacksw/handcal//NONSGML v1.0//EN
VERSION:2.0
METHOD:PUBLISH
BEGIN:VEVENT
DTSTART:20240125T154500Z
DTEND:20240125T170000Z
LOCATION:HARIK THOMPSON, CPAs
UID:2556920240125T154500ZUnpacking Relevant Tax Changes
DTSTAMP:20260420T061206Z
DESCRIPTION:\nWe will be digging deeper into relevant tax changes and discussing issues brought up in our last meeting.  \n \n\n Harik Thompson CPAs\n 25500 Hawthorne Blvd #2120\n Torrance, CA 90505\n \n \n \n  \n \n 
SUMMARY:Unpacking Relevant Tax Changes - South Bay Estate Planning Council 
PRIORITY:3
BEGIN:VALARM
TRIGGER:PT18H
ACTION:DISPLAY
DESCRIPTION:Reminder
END:VALARM
END:VEVENT
END:VCALENDAR