BEGIN:VCALENDAR
PRODID:-//hacksw/handcal//NONSGML v1.0//EN
VERSION:2.0
METHOD:PUBLISH
BEGIN:VEVENT
DTSTART:20240411T140000Z
DTEND:20240411T160000Z
LOCATION:The Depot
UID:2546520240411T140000ZEthical Wills: Our Most Precious Legacy
DTSTAMP:20260420T061441Z
DESCRIPTION:\nRSVPs ARE CLOSED FOR THIS EVENT.  YOU CAN CALL MARLOWE AT 310-375-6300\nTO SEE IF THERE ARE ANY SPACES AVAILABLE.\n \nAn ethical will is one of the most important legacies we can leave. This ancient tradition is slowly rising in popularity, and for good reason. In this class we will discuss what an ethical will is and isn’t. We will study one of the earliest ethical wills, and snippets from ethical wills throughout different time periods. We will discuss the kinds of ethical wills, innovative ways in which to both create them and pass them on. Finally, you will leave with tools for how to create your own, and resources to help guide others through the process.\n \nAbout our Speaker\n   \nRabbi Cassi Kail is the Director of Jewish Life at Chapman University and a community rabbi serving unaffiliated Jews throughout the South Bay. She previously served as a congregational rabbi in both New York and California. Rabbi Kail is a board member of Harbor Connects, a non-profit organization supporting neighbors and service providers in the fight against poverty, and the Pacific Association of Reform Rabbis (PARR). She also serves on the Central Conference of American Rabbis convention committee. Passionate about interfaith work, she has flown to Qatar with and is a leader of the Los Angeles branch of the Multi-Faith Neighbors Network and the San Pedro Faith Consortium. Rabbi Kail received her M.A. in Hebrew Literature and her rabbinic ordination from Hebrew Union College- Jewish Institute of Religion. She loves teaching, hiking, playing guitar, and avidly reading. She lives in Palos Verdes with her husband and their children, Noam and Talia.  \n  \nLook Who Is Coming! \nBob Abelson \nBlanca Alfaro \nDavid Andrade \nNadia Antii \nbruce attig \nStephanie Bezner \nAllen Bond \nDaniel Bradshaw \nGustavo Cardenas \nCheryl Carter \nPhillip Cook \nAshley Copp \nKristen Damon \nDrew Davis \nMaureen Dearden \nSadara DeVonne \nLinda Dorfmont \nClaire Durand \nOrit Gadish \nMichael Goergen \nSam Gopinathan \nSusan Griego \nMary Hanson \nEric Harris \nJOHN HOOKS \nBlanca Intriago \nIsaac Kim \nAngela Klenk \nMickey Knickerbocker \nAndrew Meinzer \nShawn Nejad \nGrant Niman \nMichael Ozawa \nNancy Pearson \nRhonica Petty \nYvonne Phillips \nGregory Schill \nAngela Sheldon \nDaniel Taylor \nCarl Walsh \ntammy wong
SUMMARY:Ethical Wills: Our Most Precious Legacy - South Bay Estate Planning Council 
PRIORITY:3
BEGIN:VALARM
TRIGGER:PT18H
ACTION:DISPLAY
DESCRIPTION:Reminder
END:VALARM
END:VEVENT
END:VCALENDAR