BEGIN:VCALENDAR
PRODID:-//hacksw/handcal//NONSGML v1.0//EN
VERSION:2.0
METHOD:PUBLISH
BEGIN:VEVENT
DTSTART:20240314T140000Z
DTEND:20240314T160000Z
LOCATION:The Depot and via Zoom
UID:2546420240314T140000ZBeat Prop. 13: Using An Entity To Transfer Real Estate To Heirs.
DTSTAMP:20260420T061518Z
DESCRIPTION:\nTHE ROOM IS GETTING FULL!  I HAVE CLOSED DOWN REGISTRATION.  IF YOU WANT TO BE ON THE WAITING LIST AS WE DO GET CANCELLATIONS, PLEASE CALL MARLOWE AT 310-375-6300 OR EMAIL MARLOWEKEPNER@GMAIL.COM\n \nProp. 19 eliminated the partial parent-child exclusion for transfers of non-principal residence real property and severely restricted the unlimited parent-child exclusion for a personal residence.  There is some hope an action spear-headed by the Howard Jarvis Taxpayers’ Association will repeal Prop. 19.\n \nIn the meantime, we can use Rev. & Tax. Code Section 64, specifically subsections (c) and (d), to transfer both types of property to the next generation at little or no reassessment cost.  We do this in the context of estate tax planning.  It takes several years to accomplish, and it is complicated, but it works.\n \nABOUT OUR SPEAKER\n Mr. Givner has been practicing tax law for over four decades concentrating on income tax planning, estate tax planning, sophisticated retirement plans, asset protection planning, charitable planning, capital gain planning, tax litigation, and the representation of high net worth and high-income families, as well as individuals and their closely held corporations.\n \nLook who is coming!\n \n \n Robert Abelson   Garee Gasperian   Andrew Meinzer Bob Abelson, CPA   Michael Goergen   Mike Millea Kathleen Adams   Matthew Golding   kelly moore Carmen Alberio   Erica Gomez   MAT MOORE Ernesto Aldover   Susan Griego   Blanca Nazareth David Andrade   Suzanne Grudnitski   Shawn Nejad Nadia Antii   David Guelff   Tom Nguyen Michael Barth   Ali Haidar   Grant Niman Max Barth   Mary Hanson   Michael Ozawa David Benedetto   Patricia Harik   Julia Parton Stephanie Bezner   Eric Harris   Masumi Patel Allen Bond   Margaret Healy   Peter Pettler Eugene Brown   JOHN HOOKS   Rhonica Petty Gustavo Cardenas   Jacqueline Huber   Donna Phelan Cheryl Carter   Matthew Iantosca   Yvonne Phillips Phillip Cook   Vickie INtriago   Gregory Schill Ashley Copp   alexis jensen   Rebecca Schroff Kathleen Crane   Peter Jensen   Edward Schuh II Kristen Damon   Mollie Kaiser   Angela Sheldon Drew Davis   Sharon Kalani   Larry Takahashi Maureen Dearden   Isaac Kim   Laura Thatcher Stephanie Denton   Angela Klenk   Mark Tsujimoto R Stephen Doan   Mickey Knickerbocker   Kazuaki Uemura Linda Dorfmont   Alexis Langer   Sandy VandenBerge Claire Durand   Regina Lark   Shylesh Viswanathan Jennifer Eaton   Christina Lewis   Courtney Witz Edward Fixen   Scott Magee   tammy wong Bryan Flores   Andrew Manier       Samuel Ford   JR McDonald                       \n 
SUMMARY:Beat Prop. 13: Using An Entity To Transfer Real Estate To Heirs. - South Bay Estate Planning Council 
PRIORITY:3
BEGIN:VALARM
TRIGGER:PT18H
ACTION:DISPLAY
DESCRIPTION:Reminder
END:VALARM
END:VEVENT
END:VCALENDAR