BEGIN:VCALENDAR
PRODID:-//hacksw/handcal//NONSGML v1.0//EN
VERSION:2.0
METHOD:PUBLISH
BEGIN:VEVENT
DTSTART:20240509T140000Z
DTEND:20240509T160000Z
LOCATION:Depot Restaurant and Via Zoom
UID:2546320240509T140000ZEstate Plans Gone Sideways
DTSTAMP:20260420T061344Z
DESCRIPTION:\nRSVPs ARE CLOSED FOR THIS EVENT.  PLEASE CONTACT MARLOWE AT 310-375-6300 TO SEE IF THERE IS SPACE AVAILABLE.\n \nInsights from a trial courtroom. Judge Cowan will discuss, from his experience hearing and deciding Probate cases, what he has observed as common difficulties arising from estate planning, as well as areas of trust and estate administration prone to cause problems, with a focus on ensuring parties meet their ethical obligations.\n \nABOUT OUR SPEAKER:\n \nHON. DAVID J. COWAN sits in the Beverly Hills Courthouse where he hears long cause Civil and Probate trials. He also conducts mandatory settlement conferences.\n \nPreviously, Judge Cowan was Supervising Judge of the Civil Division of the Court. As Supervising Judge of Civil, he oversaw the operations of over one hundred and fifty courtrooms around the County. Earlier, he was Supervising Judge of the Probate and Mental Health Depts. During his six plus years sitting in a Probate department, he was a member of the Probate and Mental Health Advisory Committee to the Judicial Council of California.\n \nJudge Cowan was appointed a Judge by Governor Jerry Brown in 2014. Before his appointment as a judge, Judge Cowan served as a Court Commissioner. For much of that time, Judge Cowan handled a Family Law calendar at the Santa Monica Courthouse.\n \nPrior to going on the bench, Judge Cowan practiced business and real estate litigation for seventeen years. He started at Rogers & Wells, now known as Clifford Chance. Later, he had his own office.\n \nJudge Cowan is a graduate of Univ. of Calif. College of the Law San Francisco (formerly known as Hastings) and Columbia University.\n \nLOOK WHO IS COMING!\n   \nBob. Abelson \nBob Abelson, CPA \nCarmen Alberio \nGerry Andrade \nStephanie Bezner \nAllen Bond \nJulio Bonilla \nDaniel Bradshaw \nJohn Corrales \nKristen Damon \nDrew Davis \nLinda Dorfmont \nClaire Durand \nAri Fidler \nSamuel Ford \nLucy Garcia \nGaree Gasperian \nMichael Goergen \nMatthew Golding \nSam Gopinathan \nSuzanne F. Grudnitski \nPATRICIA HARIK \nEric Harris \nTodd Hollingshead \nJOHN HOOKS \nJacqueline Huber \nMatt Iantosca \nVickie Intriago \nAngela Klenk \nMickey Knickerbocker \nMary Korkodian \nRegina Lark \nAndrew Manier \nFrances Martin \nShawn Nejad \nMasumi Patel \nNancy Pearson \nPeter Pettler \nRhonica Petty \nAlison Sabran \nMatthew Scelza \nRebecca Schroff \nAngela Sheldon \nGrace St. Clair \nLarry Takahashi \nDaniel Taylor \nSandy VandenBerge \nCarl Walsh \nCourtney Witz \ntammy wong
SUMMARY:Estate Plans Gone Sideways - South Bay Estate Planning Council 
PRIORITY:3
BEGIN:VALARM
TRIGGER:PT18H
ACTION:DISPLAY
DESCRIPTION:Reminder
END:VALARM
END:VEVENT
END:VCALENDAR