BEGIN:VCALENDAR
PRODID:-//hacksw/handcal//NONSGML v1.0//EN
VERSION:2.0
METHOD:PUBLISH
BEGIN:VEVENT
DTSTART:20231026T144500Z
DTEND:20231026T160000Z
LOCATION:HARIK THOMPSON, CPAs
UID:2518520231026T144500ZKeeping it Safe - Continued...
DTSTAMP:20260420T061738Z
DESCRIPTION:\nThe cyber security discussion continues!\n \nBring your questions to our Focus Group meeting\n \n\n Harik Thompson CPAs\n 25500 Hawthorne Blvd #2120\n Torrance, CA 90505\n \n \n \n  \n \n 
SUMMARY:Keeping it Safe - Continued... - South Bay Estate Planning Council 
PRIORITY:3
BEGIN:VALARM
TRIGGER:PT18H
ACTION:DISPLAY
DESCRIPTION:Reminder
END:VALARM
END:VEVENT
END:VCALENDAR