BEGIN:VCALENDAR
PRODID:-//hacksw/handcal//NONSGML v1.0//EN
VERSION:2.0
METHOD:PUBLISH
BEGIN:VEVENT
DTSTART:20231027T220000Z
DTEND:20231028T020000Z
LOCATION:The Brews Hall in Torrance
UID:2512120231027T220000ZHappy Hour at Brews Hall - Torrance
DTSTAMP:20260420T061519Z
DESCRIPTION:\n \nReservations are closed for this event.  If you want to attend, give Marlowe a call at 310-375-6300\n \nIt’s time to gather again to have a couple drinks and socialize with your fellow members!\n If you are hungry, there is a plethora of menu items to choose from (no host).\n Make sure to check in with Marlowe to get your drink tickets.\n  \n \nBust out your funky hat to celebrate Halloween! \n \n \n \n
SUMMARY:Happy Hour at Brews Hall - Torrance - South Bay Estate Planning Council 
PRIORITY:3
BEGIN:VALARM
TRIGGER:PT18H
ACTION:DISPLAY
DESCRIPTION:Reminder
END:VALARM
END:VEVENT
END:VCALENDAR