BEGIN:VCALENDAR
PRODID:-//hacksw/handcal//NONSGML v1.0//EN
VERSION:2.0
METHOD:PUBLISH
BEGIN:VEVENT
DTSTART:20231012T140000Z
DTEND:20231012T160000Z
LOCATION:Depot Restaurant and Via Zoom
UID:2442320231012T140000ZKeeping it Safe: Your Business, Your Clients' Data, and You
DTSTAMP:20260420T061718Z
DESCRIPTION:\nReservations are closed for this event.  \n \nYou can reach out to Marlowe at 310-375-6300 to see if there are any cancellations\n \n\n In today's interconnected digital landscape, safeguarding client data is of paramount importance. This presentation on Cyber Security and Protecting Client Data covers key aspects of defending against evolving cyber threats. You’ll learn about essential business applications – what you need and don’t need. Topics include understanding the current threat landscape, data classification, access control, encryption, security policies, incident response planning, compliance with regulations, third-party risk management, monitoring and threat detection, and emerging technologies.\n \nAbout Our Speaker:\n Mark Mina is the founder and president of EZ Tek Support, a company dedicated to providing top-notch IT support and cybersecurity services. With over a decade of experience providing operational leadership in the legal sector, coupled with extensive knowledge in technology solutions for small and mid-sized businesses, Mark has become a trusted ally for law firms, small enterprises, entrepreneurs, and startups alike.\n \nHe is an active member of associations such as the Consumer Attorneys of Los Angeles (CAALA), Orange County Trial Lawyers Association (OCTLA) and is a JHQ Partner. He is also a Board Member at the Long Beach Chamber of Commerce/Long Beach Young Professionals and an Executive Committee Member of ProVisors. Through his extensive expertise and active engagement, Mark Mina is a driving force in shaping the landscape of IT support and cybersecurity for businesses across various sectors.\n \nOutside of work, Mark enjoys spending time with his wife, three children, and two dogs.\n \nLook who's coming! \n \nGerry A Andrade \nBob Abelson, PhD \nBob Abelson, CPA \nDavid Andrade \nNadia Antii \nBruce Attig \nGustavo Cardenas \nCheryl Carter \nAshley Copp \nkathleen Crane \nKristen Damon \nStewart Darrell \nSamuel Ford \nOrit Gadish \nMathius Marc Gertz \nMichael Goergen \nSuzanne Grudnitski \nDavid Guelff \nMary Hanson \nPaul Hargraves \nTodd Hollingshead \nJOHN HOOKS \nvickie Intriago \nMollie Kaiser \nAngela Klenk \nMickey Knickerbocker \nBriana Maberry \nAndrew Meinzer \nWilliam Nguyen \nMichael Ozawa \nPeter Pettler \nRhonica Petty \nYvonne Phillips \nCynthia Rustanius \nAngela Sheldon \nGrace StClair \nLarry Takahashi \nMark Tsujimoto \nKazuaki Uemura \nSandy VandenBerge
SUMMARY:Keeping it Safe: Your Business, Your Clients' Data, and You - South Bay Estate Planning Council 
PRIORITY:3
BEGIN:VALARM
TRIGGER:PT18H
ACTION:DISPLAY
DESCRIPTION:Reminder
END:VALARM
END:VEVENT
END:VCALENDAR