BEGIN:VCALENDAR
PRODID:-//hacksw/handcal//NONSGML v1.0//EN
VERSION:2.0
METHOD:PUBLISH
BEGIN:VEVENT
DTSTART:20230525T144500Z
DTEND:20230525T160000Z
LOCATION:HARIK THOMPSON, CPAs
UID:2428820230525T144500ZTopic:  Proposition 19 – Digging Deeper into the Proactive Planning Techniques
DTSTAMP:20260420T061449Z
DESCRIPTION:\n \nRSVPs are closed for this event.  Please call Marlowe at 310-375-6300 to see if she can squeeze you in!\n \nDeeper dive, discussion, and practical examples expanding on Greg Broege’s general meeting presentation on May 11. Please bring your outline from the May 11 presentation.\n \nAbout Our Speaker:  Angela is Board Certified as a Specialist in Estate Planning, Trust & Probate Law by the State Bar of California, Board of Legal Specialization. Her undergraduate degree is from the University of Notre Dame and JD from the UCLA School of Law. She began her practice in 1994 at O’Melveny & Myers LLP and founded Beach Cities Estate Law in 2017.\n \nHarik Thompson CPAs\n 25500 Hawthorne Blvd #2120\n Torrance, CA 90505\n \n \n
SUMMARY:Topic:  Proposition 19 – Digging Deeper into the Proactive Planning Techniques - South Bay Estate Planning Council 
PRIORITY:3
BEGIN:VALARM
TRIGGER:PT18H
ACTION:DISPLAY
DESCRIPTION:Reminder
END:VALARM
END:VEVENT
END:VCALENDAR