BEGIN:VCALENDAR
PRODID:-//hacksw/handcal//NONSGML v1.0//EN
VERSION:2.0
METHOD:PUBLISH
BEGIN:VEVENT
DTSTART:20230223T154500Z
DTEND:20230223T170000Z
LOCATION:HARIK THOMPSON, CPAs
UID:2397220230223T154500ZSecure Act 2.0
DTSTAMP:20260420T061046Z
DESCRIPTION:\nJohn Barry from LPL Financial will lead a lively discussion on the Secure Act 2.0\n
SUMMARY:Secure Act 2.0 - South Bay Estate Planning Council 
PRIORITY:3
BEGIN:VALARM
TRIGGER:PT18H
ACTION:DISPLAY
DESCRIPTION:Reminder
END:VALARM
END:VEVENT
END:VCALENDAR