BEGIN:VCALENDAR
PRODID:-//hacksw/handcal//NONSGML v1.0//EN
VERSION:2.0
METHOD:PUBLISH
BEGIN:VEVENT
DTSTART:20230209T150000Z
DTEND:20230209T170000Z
LOCATION:The Depot Restaurant and via Zoom
UID:2394520230209T150000ZJeopardy!!!
DTSTAMP:20260420T061045Z
DESCRIPTION:\nRegistration is closed.  Call Marlowe at 310-375-6300 to find out if there are any spots open\n \nIt's time for some good fun and competition!\n The SBEPC Board of Directors has put together a competitive round of Jeopardy featuring topics such as:\n Income Tax Elder Care and Disability Investments Retirement Plans Trust & Estate Litigation Valuation Who am I? \nPut on your pants and your thinking caps (there is no Zoom option) and let's see who is on top of their game!\n Certain questions/topics will be expanded upon making this qualify for CE.\n  \n \n \n
SUMMARY:Jeopardy!!! - South Bay Estate Planning Council 
PRIORITY:3
BEGIN:VALARM
TRIGGER:PT18H
ACTION:DISPLAY
DESCRIPTION:Reminder
END:VALARM
END:VEVENT
END:VCALENDAR