BEGIN:VCALENDAR
PRODID:-//hacksw/handcal//NONSGML v1.0//EN
VERSION:2.0
METHOD:PUBLISH
BEGIN:VEVENT
DTSTART:20230511T140000Z
DTEND:20230511T160000Z
LOCATION:Depot Restaurant and Via Zoom
UID:2367420230511T140000ZProposition 19 Revisited: Proactive Planning Techniques and Practice Pointers
DTSTAMP:20260420T061640Z
DESCRIPTION:\nRSVPs are now closed.  Give Marlowe a call at 310-375-6300 to see if she can squeeze you in!\n \nComparison of prior parent-child and over-55 base year exclusions to the Prop 19 versions of the same.  We will analyze the differences and any new nuances.  We will also provide potential planning techniques to transfer property to children without reassessment.\n \n \n \nABOUT OUR SPEAKER\n \nGreg was born in Long Branch, New Jersey and grew up at the Jersey Shore. Greg attended Florida State University for his undergraduate studies where he graduated summa cum laude and Phi Beta Kappa. After graduating from FSU, Greg attended UCLA School of Law where he was awarded a Dean’s Merit Scholarship.\n \nGreg began his practice at Latham & Watkins LLP. Greg joined Ajalat, Polley, Ayoob, Matarese & Broege in 2009 where he specializes solely in California State & Local Tax matters. Greg became a partner in 2016.\n
SUMMARY:Proposition 19 Revisited: Proactive Planning Techniques and Practice Pointers - South Bay Estate Planning Council 
PRIORITY:3
BEGIN:VALARM
TRIGGER:PT18H
ACTION:DISPLAY
DESCRIPTION:Reminder
END:VALARM
END:VEVENT
END:VCALENDAR