BEGIN:VCALENDAR
PRODID:-//hacksw/handcal//NONSGML v1.0//EN
VERSION:2.0
METHOD:PUBLISH
BEGIN:VEVENT
DTSTART:20221027T220000Z
DTEND:20221028T010000Z
LOCATION:Rock & Brews
UID:2351720221027T220000ZHappy Hour at Rock & Brews
DTSTAMP:20260420T061936Z
DESCRIPTION:\nSBEPC Members\n \nIt's time for some fun and socializing!\n We are meeting up at Rock & Brews in Redondo Beach (6300 S. PCH, Riviera Village)\n Happy Hour is from 3-5 pm, but we will stretch it to 6 for those workaholics in the group.\n Feel free to bring your better halves or if you have a good potential member that will fit into the Atty/CFP/CPA/Wealth/Invest/Fiduciary categories, invite them along.  Our resouce category is currently full.\n Same format as in the past.  You will receive 2 raffle tickets that will buy you 2 beer or wine or one cocktail\n We will order some yummy appetizers.\n See you there!\n
SUMMARY:Happy Hour at Rock & Brews - South Bay Estate Planning Council 
PRIORITY:3
BEGIN:VALARM
TRIGGER:PT18H
ACTION:DISPLAY
DESCRIPTION:Reminder
END:VALARM
END:VEVENT
END:VCALENDAR