BEGIN:VCALENDAR
PRODID:-//hacksw/handcal//NONSGML v1.0//EN
VERSION:2.0
METHOD:PUBLISH
BEGIN:VEVENT
DTSTART:20221208T150000Z
DTEND:20221208T170000Z
LOCATION:The Depot Restaurant and via Zoom
UID:2313720221208T150000ZBusiness Succession Planning
DTSTAMP:20260420T061503Z
DESCRIPTION:\nKira will be speaking about the following:\n Managing the business and the family participants Plans for the business Present business practices Succession:  Potential and pitfalls Gifting a business Selling a business Passing a business at death  Buy/Sell agreements Exit Strategies \nAbout our Speaker\n \nKira Mastellar is a Shareholder at Lewitt Hackman Shapiro Marshall & Harlan and has been working in the estate planning, estate and gift tax planning and trust administration areas for more than 30 years.  Many of her estate planning clients are business owners and Business Succession Planning is part of their estate planning which requires special attention and planning.\n
SUMMARY:Business Succession Planning - South Bay Estate Planning Council 
PRIORITY:3
BEGIN:VALARM
TRIGGER:PT18H
ACTION:DISPLAY
DESCRIPTION:Reminder
END:VALARM
END:VEVENT
END:VCALENDAR