BEGIN:VCALENDAR
PRODID:-//hacksw/handcal//NONSGML v1.0//EN
VERSION:2.0
METHOD:PUBLISH
BEGIN:VEVENT
DTSTART:20230112T150000Z
DTEND:20230112T170000Z
LOCATION:The Depot Restaurant and via Zoom
UID:2313620230112T150000ZTax Update
DTSTAMP:20260420T061206Z
DESCRIPTION:\nReservations close on Tuesday.\n \nPlease call Marlowe at 310-375-6300 to see if there is available space\n
SUMMARY:Tax Update - South Bay Estate Planning Council 
PRIORITY:3
BEGIN:VALARM
TRIGGER:PT18H
ACTION:DISPLAY
DESCRIPTION:Reminder
END:VALARM
END:VEVENT
END:VCALENDAR