BEGIN:VCALENDAR
PRODID:-//hacksw/handcal//NONSGML v1.0//EN
VERSION:2.0
METHOD:PUBLISH
BEGIN:VEVENT
DTSTART:20221110T150000Z
DTEND:20221110T170000Z
LOCATION:The Depot Restaurant and via Zoom
UID:2313520221110T150000ZTumultuous Terrain of the Trustee
DTSTAMP:20260420T061937Z
DESCRIPTION:\nBack by popular demand!\n \nAddressing the fundamental topics of who actually is a Trustee, what it means to be a Trustee (including who should/should not be a Trustee), and drafting trust provisions regarding Trustees and their ilk.\n \nABOURT OUR SPEAKERS:\n \n \n \nWillow is a Certified Legal Specialist in Estate Planning, Trust & Probate Law, certified by the California Board of Legal Specialization, California State Bar. \n \nWillow was born and raised in southern California. She graduated from UC Irvine in 1998 with a B.A. in Criminology, Law & Society, and a B.A. in Psychology and Social Behavior. After working in the non-profit sector for two years, Willow moved to Los Angeles to attend the UCLA School of Law. Since graduating from law school in 2003, Willow has worked exclusively in the fields of estate planning and trust administration, first at a large national firm, then at an elite boutique firm, and finally founded Willow Law Group in 2010. In addition to her legal practice, Willow is an Adjunct Professor at Loyola Law School, teaching Wills & Trusts, and previously taught for several years at California State University, Northridge in the College of Business and Economics and UCLA Extension, teaching courses in estate planning, estate tax and gift tax.\n \nAdam L. Streltzer is a probate, trust, and fiduciary litigator in Los Angeles and Culver City. He received his undergraduate degree in Applied Geography from San Diego State University and his law degree from the University of the Pacific, McGeorge School of Law. He is an active participant in the appointed counsel (CAC) and guardian ad litem (GAL) programs of the Los Angeles County Superior Court. Adam’s practice generally focuses on litigation concerning the rights, duties, responsibilities, money, and property of the deceased, incompetent, spendthrift, and bankrupt, with a special emphasis in representing creditors in the probate court\n
SUMMARY:Tumultuous Terrain of the Trustee - South Bay Estate Planning Council 
PRIORITY:3
BEGIN:VALARM
TRIGGER:PT18H
ACTION:DISPLAY
DESCRIPTION:Reminder
END:VALARM
END:VEVENT
END:VCALENDAR