BEGIN:VCALENDAR
PRODID:-//hacksw/handcal//NONSGML v1.0//EN
VERSION:2.0
METHOD:PUBLISH
BEGIN:VEVENT
DTSTART:20220615T003000Z
DTEND:20220615T030000Z
LOCATION:King Harbor Yacht Club
UID:2269620220615T003000ZSBEPC Annual Evening Social
DTSTAMP:20260420T061308Z
DESCRIPTION:\nMembers and Friends\n \nIt's that time of year again to gather and socialize!\n This year we will be meeting at the King Harbor Yacht Club.\n It's a beautiful spot out past the Charthouse in Redondo Beach.\nWe will be outside on the patio, so bring along a jacket/sweater.\n \nLooking forward to seeing you for this final event of our fiscal year!\n \n\n \n \n
SUMMARY:SBEPC Annual Evening Social - South Bay Estate Planning Council 
PRIORITY:3
BEGIN:VALARM
TRIGGER:PT18H
ACTION:DISPLAY
DESCRIPTION:Reminder
END:VALARM
END:VEVENT
END:VCALENDAR