BEGIN:VCALENDAR
PRODID:-//hacksw/handcal//NONSGML v1.0//EN
VERSION:2.0
METHOD:PUBLISH
BEGIN:VEVENT
DTSTART:20220526T144500Z
DTEND:20220526T160000Z
LOCATION:
UID:2269520220526T144500ZMay 26th Focus Group Meeting
DTSTAMP:20260420T061943Z
DESCRIPTION:\nFinding Your Financial Footing in Uncertain Times\n \nUncertainty in the financial markets and the chaotic investment environment of 2022 continues…  Join Stewart Darrell, CFA, as he examines inflation, interest rates, the war in Ukraine and other key trends that have led to an extremely challenging year so far.  When will the pain end? What lies ahead?  What can you and your clients do about it?  Joins us for this SBEPC Zoom Focus Group to find out.\n \nStewart Darrell, CFA, brings over 20 years of professional financial experience advising individuals, families, and nonprofit organizations. His specialties include designing investment portfolio strategies and engineering strategic financial plans that integrate tax and estate planning.  He is the founder of Darrell Capital Management, LLC. (www.darrellcapital.com).\n
SUMMARY:May 26th Focus Group Meeting - South Bay Estate Planning Council 
PRIORITY:3
BEGIN:VALARM
TRIGGER:PT18H
ACTION:DISPLAY
DESCRIPTION:Reminder
END:VALARM
END:VEVENT
END:VCALENDAR