BEGIN:VCALENDAR
PRODID:-//hacksw/handcal//NONSGML v1.0//EN
VERSION:2.0
METHOD:PUBLISH
BEGIN:VEVENT
DTSTART:20220414T140000Z
DTEND:20220414T160000Z
LOCATION:The Depot
UID:2244620220414T140000ZApril 14th General Breakfast Meeting
DTSTAMP:20260420T061615Z
DESCRIPTION:\nUsing Limited Conservatorships and the Regional Center as Part of an Estate Plan\n
SUMMARY:April 14th General Breakfast Meeting - South Bay Estate Planning Council 
PRIORITY:3
BEGIN:VALARM
TRIGGER:PT18H
ACTION:DISPLAY
DESCRIPTION:Reminder
END:VALARM
END:VEVENT
END:VCALENDAR